BEGIN:VCALENDAR
VERSION:2.0
PRODID:-//PlayPalooza Bradford - ECPv6.10.0//NONSGML v1.0//EN
CALSCALE:GREGORIAN
METHOD:PUBLISH
X-ORIGINAL-URL:https://playpaloozabradford.ca
X-WR-CALDESC:Events for PlayPalooza Bradford
REFRESH-INTERVAL;VALUE=DURATION:PT1H
X-Robots-Tag:noindex
X-PUBLISHED-TTL:PT1H
BEGIN:VTIMEZONE
TZID:UTC
BEGIN:STANDARD
TZOFFSETFROM:+0000
TZOFFSETTO:+0000
TZNAME:UTC
DTSTART:20250101T000000
END:STANDARD
END:VTIMEZONE
BEGIN:VEVENT
DTSTART;TZID=UTC:20250211T180000
DTEND;TZID=UTC:20250211T200000
DTSTAMP:20260423T174836
CREATED:20250209T152824Z
LAST-MODIFIED:20250209T153054Z
UID:4883-1739296800-1739304000@playpaloozabradford.ca
SUMMARY:Valentines PJs & Movie Night
DESCRIPTION:🎬 Movie Night at Play Palooza! 🍕  \nJoin us on Tuesday\, February 11\, at 6 PM\, for a cozy Movie Night featuring Be My Valentine\, Charlie Brown! ❤️ Enjoy FREE pizza & Juice while watching this heartwarming classic.   \n📅 Date: Tuesday\, February 11\n⏰ Time: 6:00 PM\n🎥 Movie: Be My Valentine\, Charlie Brown\n🍕 Free pizza & juice\n⚠️ Limited spots—reserve now! \nDon’t miss out on this fun-filled evening! 🎟️✨
URL:https://playpaloozabradford.ca/event/valentines-pjs-movie-night-2/
LOCATION:Play Palooza Bradford\, 105 Holland St E\, Bradford\, ON\, L3Z3G2\, Canada
ATTACH;FMTTYPE=image/png:https://playpaloozabradford.ca/wp-content/uploads/2025/02/Blue-and-Red-Retro-Movie-Night-Flyer.png
END:VEVENT
END:VCALENDAR