BEGIN:VCALENDAR
VERSION:2.0
PRODID:-//PlayPalooza Bradford - ECPv6.10.0//NONSGML v1.0//EN
CALSCALE:GREGORIAN
METHOD:PUBLISH
X-WR-CALNAME:PlayPalooza Bradford
X-ORIGINAL-URL:https://playpaloozabradford.ca
X-WR-CALDESC:Events for PlayPalooza Bradford
REFRESH-INTERVAL;VALUE=DURATION:PT1H
X-Robots-Tag:noindex
X-PUBLISHED-TTL:PT1H
BEGIN:VTIMEZONE
TZID:UTC
BEGIN:STANDARD
TZOFFSETFROM:+0000
TZOFFSETTO:+0000
TZNAME:UTC
DTSTART:20250101T000000
END:STANDARD
END:VTIMEZONE
BEGIN:VEVENT
DTSTART;TZID=UTC:20250207T180000
DTEND;TZID=UTC:20250207T193000
DTSTAMP:20260424T003209
CREATED:20250206T062327Z
LAST-MODIFIED:20250206T062327Z
UID:4811-1738951200-1738956600@playpaloozabradford.ca
SUMMARY:Cupid’s Craft Corner – Valentine’s Creativity for Kids! ❤️🎨
DESCRIPTION:Celebrate love and creativity at Play Palooza’s Cupid’s Craft Corner! This special Valentine’s event is perfect for little artists who love to create and have fun.   \n💌 Date: February 7\, 2025\n💌 Time: 6:00pm\n💌 Location: Play Palooza Indoor Play Center\, 105 Holland St E\, Bradford\, ON . \n🎨 What’s in Store?\n✨ Valentine’s Card Making – Kids can design heartfelt cards for family & friends!\n✨ Heart-Shaped Animal Crafts – Cute and creative paper crafts to bring love to life!\n✨ Coloring & Fun – A cozy corner for little ones to enjoy themed coloring pages.\n✨ Playtime in the Indoor Play Center – After crafting\, kids can run\, jump\, and play!   \n🚨 Safety First! No beads or small pieces to ensure a safe crafting experience.   \n💖 **Limited spots available!** Reserve your child’s spot today.  Inclusive with general admission at time of event. \n📢 RSVP Now! \nLet’s spread love\, laughter\, and creativity at Cupid’s Craft Corner! 🎨💕
URL:https://playpaloozabradford.ca/event/cupids-craft-corner-valentines-creativity-for-kids-%e2%9d%a4%ef%b8%8f%f0%9f%8e%a8/
LOCATION:Play Palooza Bradford\, 105 Holland St E\, Bradford\, ON\, L3Z3G2\, Canada
ATTACH;FMTTYPE=image/jpeg:https://playpaloozabradford.ca/wp-content/uploads/2025/02/CCC.jpeg
END:VEVENT
END:VCALENDAR