BEGIN:VCALENDAR
VERSION:2.0
PRODID:-//PlayPalooza Bradford - ECPv6.10.0//NONSGML v1.0//EN
CALSCALE:GREGORIAN
METHOD:PUBLISH
X-ORIGINAL-URL:https://playpaloozabradford.ca
X-WR-CALDESC:Events for PlayPalooza Bradford
REFRESH-INTERVAL;VALUE=DURATION:PT1H
X-Robots-Tag:noindex
X-PUBLISHED-TTL:PT1H
BEGIN:VTIMEZONE
TZID:UTC
BEGIN:STANDARD
TZOFFSETFROM:+0000
TZOFFSETTO:+0000
TZNAME:UTC
DTSTART:20250101T000000
END:STANDARD
END:VTIMEZONE
BEGIN:VEVENT
DTSTART;TZID=UTC:20250311T180000
DTEND;TZID=UTC:20250311T193000
DTSTAMP:20260423T184919
CREATED:20250305T050131Z
LAST-MODIFIED:20250305T050131Z
UID:4934-1741716000-1741721400@playpaloozabradford.ca
SUMMARY:March Madness Dance Party
DESCRIPTION:🎶 March Madness Dance Party at Play Palooza! 💃🕺   \nGet ready to dance\, jump\, and groove at our March Madness Dance Party! Join us for an epic evening of music\, lights\, and high-energy fun as we turn Play Palooza into a dance floor for the ultimate celebration.   \n📅 Tuesday\, March 11\n⏰ 6:00 PM\n📍 Play Palooza Indoor Play Center   \nKids can bust out their best moves\, enjoy interactive dance games\, and let loose in a vibrant\, exciting atmosphere! Wear your brightest\, boldest outfits and get ready for a dance-off like no other!   \n🎟️ Limited spots available – don’t miss out!
URL:https://playpaloozabradford.ca/event/march-madness-dance-party/
LOCATION:Play Palooza Bradford\, 105 Holland St E\, Bradford\, ON\, L3Z3G2\, Canada
ATTACH;FMTTYPE=image/jpeg:https://playpaloozabradford.ca/wp-content/uploads/2025/03/Black-and-Purple-Neon-Night-Party-Flyer.jpg
END:VEVENT
BEGIN:VEVENT
DTSTART;TZID=UTC:20250314T180000
DTEND;TZID=UTC:20250314T190000
DTSTAMP:20260423T184919
CREATED:20250305T053523Z
LAST-MODIFIED:20250305T053611Z
UID:4939-1741975200-1741978800@playpaloozabradford.ca
SUMMARY:Paint Night
DESCRIPTION:🎨 Paint Night at Play Palooza! 🎨   \nLet creativity run wild at our Paint Night – a guided painting experience just for kids! Join us for an evening filled with fun\, colors\, and artistic expression as little artists create their own masterpiece to take home.   \n📅 Friday\, March 14\n⏰ 6:00 PM\n📍 Play Palooza Indoor Play Center   \nOur instructor will lead the kids step by step\, making it easy and exciting for all skill levels. With vibrant paints\, lively music\, and a fun atmosphere\, this is the perfect way for kids to explore their creativity while having a blast!   \n🎟️ Limited spots available – reserve yours today!
URL:https://playpaloozabradford.ca/event/paint-night/
LOCATION:Play Palooza\, 105 Holland St E\, Bradford\, ON\, L3Z2B9\, Canada
ATTACH;FMTTYPE=image/png:https://playpaloozabradford.ca/wp-content/uploads/2025/03/Colorful-Watercolor-Paint-School-College-Art-Fair-Event-Poster.png
END:VEVENT
END:VCALENDAR